BEGIN:VCALENDAR
VERSION:2.0
PRODID:-//wp-events-plugin.com//7.2.3.1//EN
BEGIN:VEVENT
UID:28@valdungeon.org
DTSTART:20240217T140000Z
DTEND:20240217T180000Z
DTSTAMP:20240303T140212Z
URL:https://valdungeon.org/eventi/fornaci-ludiche-accendi-la-passione-per-
 il-gioco/
SUMMARY:Fornaci Ludiche - Accendi la passione per il gioco
DESCRIPTION:﻿\n\nSabato 17 Febbraio 2024 dalle ore 15:00 alle ore 19:00\n
 Fornaci Ludiche - Accendi la passione per il gioco\nBiblioteca Le Fornaci\
 , Piazza Le Fornaci\, 37\, Terranuova Bracciolini.\n\n\nPreparati a un pom
 eriggio di puro divertimento con "Fornaci Ludiche - Accendi la passione pe
 r il gioco"! L'evento si terrà sabato 17 febbraio 2024\, presso la Biblio
 teca Comunale Terranuova Bracciolini\, un incontro imperdibile per tutti g
 li appassionati di giochi da tavolo\, di ruolo e strategici.\nImmergiti in
  un mondo di sfide appassionanti e scopri nuovi giochi insieme a noi di Va
 lDungeon. Che tu sia un esperto giocatore o un curioso alle prime armi\, t
 roverai qualcosa che accenderà la tua passione per il gioco. Questa è l'
 occasione perfetta per conoscere altri appassionati\, condividere esperien
 ze e\, perché no\, avviare nuove amicizie all'insegna del divertimento.\n
 La Biblioteca Le Fornaci si trasformerà in un grande salotto ludico\, dov
 e potrai esplorare\, imparare nuovi giochi e mettere alla prova la tua abi
 lità e ingegno. Ti aspettano ore di intrattenimento garantito\, in un amb
 iente accogliente e stimolante.\nL'ingresso è libero! I nostri volontari 
 non vedono l'ora di accogliervi.\nUn ringraziamento speciale all'Amministr
 azione del Comune di Terranuova Bracciolini e alla direzione della Bibliot
 eca Le Fornaci per il loro sostegno e collaborazione\, fondamentali per la
  realizzazione di questo evento.\nEDIT\n\n\nIn segno di rispetto e parteci
 pazione al lutto regionale proclamato dal Presidente della Regione Toscana
 \, Eugenio Giani\, a causa del tragico incidente avvenuto nel cantiere di 
 Via Mariti a Firenze\, siamo costretti a rinviare l'evento "Fornaci Ludich
 e - Accendi la passione per il gioco"\, previsto per oggi\, 17 Febbraio 20
 24\, presso la Biblioteca Comunale Terranuova Bracciolini\n\n\nEsprimiamo 
 il nostro più profondo cordoglio alle famiglie delle vittime e a tutta la
  comunità colpita da questa tragedia. La decisione di posticipare l'event
 o è in piena concordanza con il rispetto del lutto espresso dal Sindaco d
 el Comune di Terranuova Bracciolini \, a dimostrazione della vicinanza e d
 el sostegno della nostra comunità in questo momento di dolore.\n\n\nLa nu
 ova data dell'evento verrà comunicata non appena possibile.\n\n\nGrazie p
 er la vostra sensibilità e supporto.\n\n\n
ATTACH;FMTTYPE=image/jpeg:https://i0.wp.com/valdungeon.org/wp-content/uplo
 ads/2024/03/fornacil.jpeg?fit=1080%2C1350&ssl=1
CATEGORIES:Ingresso Libero
LOCATION:Biblioteca Le Fornaci\, Piazza le Fornaci\, 37\, Terranuova Bracci
 olini\, Arezzo\, 52028\, Italia
X-APPLE-STRUCTURED-LOCATION;VALUE=URI;X-ADDRESS=Piazza le Fornaci\, 37\, Te
 rranuova Bracciolini\, Arezzo\, 52028\, Italia;X-APPLE-RADIUS=100;X-TITLE=
 Biblioteca Le Fornaci:geo:0,0
END:VEVENT
END:VCALENDAR