BEGIN:VCALENDAR
VERSION:2.0
PRODID:-//wp-events-plugin.com//7.2.3.1//EN
BEGIN:VEVENT
UID:5@valdungeon.org
DTSTART:20240419T200000Z
DTEND:20240419T225900Z
DTSTAMP:20240226T193056Z
URL:https://valdungeon.org/eventi/game-night-190424/
SUMMARY:GAME NIGHT 🎲 @ San Giovanni Valdarno
DESCRIPTION:La location\nLa serata\, in collaborazione con Unicoop Firenze\
 , si tiene presso la Sala Soci Coop di San Giovanni Valdarno\, “O. Piera
 lli”. L’ingresso della Sala Soci si trova nel parcheggio del punto ven
 dita Coop\, di fianco al distributore automatico della farmacia. Suonate i
 l campanello e salite al primo piano.\n\n\nCOME ARRIVARE\nChi può parteci
 pare?\nLa partecipazione a questo evento è RISERVATA AI SOCI.\nNon sei un
  nostro socio e vuoi partecipare?\n\n 	puoi venire a trascorrere la serata
  con noi e decidere se fare la tessera associativa a fine serata\;\n 	se h
 ai già giocato insieme a noi\, puoi fare la tessera all’inizio della se
 rata.\n\nLa tessera associativa ha un costo di 10€ ed è valida fino al 
 31/12/2024.\n\n\n\nCOME FUNZIONANO GLI EVENTI DI VALDUNGEON?\n\n 	Scegli u
 n gioco o lasciati consigliare\n 	Ti spieghiamo le regole\n 	Gioca\n 	Rico
 mincia dal punto 1.\n\n\n\n\nDomande\, dubbi?\nSono da solo/a\nNon preoccu
 parti\, ci pensiamo noi a presentarti e a trovarti un posto a un tavolo pe
 r giocare\, tenendo conto della tua esperienza e dei tuoi gusti.\nNon cono
 sco le regole o non so quale gioco scegliere\nQuesto è il motivo per cui 
 esiste ValDungeon! Siamo qui per aiutare chi desidera esplorare il mondo d
 ei giochi: forniremo tutte le informazioni\, i suggerimenti e le spiegazio
 ni necessarie per giocare.\nVorrei portare un gioco di mia proprietà\nOtt
 imo! Ti aiuteremo a trovare altri giocatori. Se puoi\, contattaci in antic
 ipo e proporremo il tuo gioco sul gruppo Telegram riservato ai Soci\, cos
 ì i giocatori potranno prepararsi al meglio e tu potrai concentrarti sul 
 divertirti senza la preoccupazione di cercare altri giocatori all’ultimo
  momento.\nMi piacerebbe darvi un mano\nAncora meglio! ValDungeon è il po
 sto ideale per tutti gli appassionati di giochi: non sono necessarie compe
 tenze specifiche o certificazioni per farne parte\, basta desiderarlo. Che
  tu voglia aiutare ad organizzare gli eventi\, oppure spiegare il tuo gioc
 o preferito di tanto in tanto\, con ValDungeon puoi farlo! Fanne menzione 
 a uno dei volontari che saranno presenti all’evento e troveremo insieme 
 il modo migliore per farlo.
ATTACH;FMTTYPE=image/jpeg:https://i0.wp.com/valdungeon.org/wp-content/uplo
 ads/2024/02/Locandina-evento-ValDungeon-sito.png?fit=700%2C400&ssl=1
CATEGORIES:Riservato ai soci
LOCATION:Sala Soci Coop San Giovanni Valdarno\, Via Napoli\, 21\, San Giova
 nni Valdarno\, Arezzo\, 52027\, Toscana\, Italia
X-APPLE-STRUCTURED-LOCATION;VALUE=URI;X-ADDRESS=Via Napoli\, 21\, San Giova
 nni Valdarno\, Arezzo\, 52027\, Toscana\, Italia;X-APPLE-RADIUS=100;X-TITL
 E=Sala Soci Coop San Giovanni Valdarno:geo:0,0
END:VEVENT
END:VCALENDAR