BEGIN:VCALENDAR
VERSION:2.0
PRODID:-//wp-events-plugin.com//7.2.3.1//EN
BEGIN:VEVENT
UID:27@valdungeon.org
DTSTART:20240209T201500Z
DTEND:20240209T224500Z
DTSTAMP:20240303T135430Z
URL:https://valdungeon.org/eventi/game-night10/
SUMMARY:Game Night
DESCRIPTION:\nGAME NIGHT #10\nVenerdì 9 Febbraio 2024\nInizio alle 21:15\n
 Associazione di Promozione Sociale Conkarma a \, Via Vespucci\, 14\, Monte
 varchi\nLa decima edizione della nostra amata GAME NIGHT è alle porte\, e
  non potremmo essere più emozionati! Preparatevi a un'altra serata indime
 nticabile presso l'ormai familiare e accogliente sede di Conkarma a Montev
 archi.\nQuesto evento è un vero e proprio traguardo per noi di ValDungeon
  e vogliamo celebrarlo in grande stile! Portate il vostro entusiasmo\, la 
 vostra voglia di giocare e\, naturalmente\, gli amici! Che siate veterani 
 delle nostre serate o nuovi avventurieri pronti a lanciarvi nell'arena lud
 ica\, vi promettiamo una notte piena di divertimento\, sfide e\, perché n
 o\, qualche sorpresa!\nL'ingresso è libero! La passione per i giochi ci u
 nisce e vogliamo che ogni appassionato abbia la possibilità di partecipar
 e.\nUn ringraziamento speciale all'Associazione di Promozione Sociale Conk
 arma per ospitarci nuovamente e contribuire a rendere la GAME NIGHT un app
 untamento ricorrente per la nostra comunità ludica.\nSegnatevi la data e 
 unitevi a noi per festeggiare la decima GAME NIGHT di ValDungeon. Non manc
 ate!
ATTACH;FMTTYPE=image/jpeg:https://i0.wp.com/valdungeon.org/wp-content/uplo
 ads/2024/03/gn10.jpeg?fit=1080%2C1350&ssl=1
CATEGORIES:Ingresso Libero
LOCATION:Conkarma A.P.S.\, Via A. Vespucci 14\, Montevarchi\, Arezzo\, 5202
 5\, Toscana\, Italia
X-APPLE-STRUCTURED-LOCATION;VALUE=URI;X-ADDRESS=Via A. Vespucci 14\, Montev
 archi\, Arezzo\, 52025\, Toscana\, Italia;X-APPLE-RADIUS=100;X-TITLE=Conka
 rma A.P.S.:geo:0,0
END:VEVENT
END:VCALENDAR