BEGIN:VCALENDAR
VERSION:2.0
PRODID:-//wp-events-plugin.com//7.2.3.1//EN
BEGIN:VEVENT
UID:29@valdungeon.org
DTSTART:20240223T200000Z
DTEND:20240223T224500Z
DTSTAMP:20240303T140619Z
URL:https://valdungeon.org/eventi/game-night11/
SUMMARY:Game Night
DESCRIPTION:\n\nGAME NIGHT # 11!\n\n\nVenerdì 23 Febbraio Ore 21:00\nSala 
 Soci Coop "O. Pieralli"\, San Giovanni Valdarno\; Via Napoli\, 21 - San Gi
 ovanni Valdarno\n\n\nQuesta volta\, la nostra avventura ludica si svolger
 à in una location del tutto nuova per noi: la Sala Soci Coop "O. Pieralli
 " di San Giovanni Valdarno. Siamo entusiasti di accogliervi in questo spaz
 io\, che promette di essere il perfetto palcoscenico per una serata di gio
 chi indimenticabile.\n\n\nUn ringraziamento speciale va a Unicoop Firenze 
 e in particolare alla Sezione Soci di San Giovanni Valdarno\, per la gener
 osità e la collaborazione nell'aprire le porte della loro sala per il nos
 tro evento. La loro disponibilità è fondamentale per permetterci di cont
 inuare a condividere la nostra passione per i giochi da tavolo.\n\n\nLa pa
 rtecipazione a questo evento è RISERVATA AI SOCI di ValDungeon.\nNon sei 
 un nostro socio e vuoi partecipare? Puoi venire a trascorrere la serata co
 n noi e decidere se fare la tessera associativa a fine serata\; oppure se 
 hai già giocato insieme a noi\, puoi fare la tessera all’inizio della s
 erata.\nL’ingresso della Sala Soci si trova nel parcheggio del punto ven
 dita Coop\, di fianco al distributore automatico della farmacia. Suonate i
 l campanello e salite al primo piano.\n
ATTACH;FMTTYPE=image/jpeg:https://i0.wp.com/valdungeon.org/wp-content/uplo
 ads/2024/03/gn11.jpeg?fit=1080%2C1350&ssl=1
CATEGORIES:Riservato ai soci
LOCATION:Sala Soci Coop San Giovanni Valdarno\, Via Napoli\, 21\, San Giova
 nni Valdarno\, Arezzo\, 52027\, Toscana\, Italia
X-APPLE-STRUCTURED-LOCATION;VALUE=URI;X-ADDRESS=Via Napoli\, 21\, San Giova
 nni Valdarno\, Arezzo\, 52027\, Toscana\, Italia;X-APPLE-RADIUS=100;X-TITL
 E=Sala Soci Coop San Giovanni Valdarno:geo:0,0
END:VEVENT
END:VCALENDAR