BEGIN:VCALENDAR
VERSION:2.0
PRODID:-//wp-events-plugin.com//7.2.3.1//EN
BEGIN:VEVENT
UID:23@valdungeon.org
DTSTART:20231207T201500Z
DTEND:20231207T224500Z
DTSTAMP:20240303T133155Z
URL:https://valdungeon.org/eventi/game-night7/
SUMMARY:Game Night
DESCRIPTION:\n\nGiovedì 7 Dicembre 21:15\nGAME NIGHT #7\nAssociazione di p
 romozione sociale CONKARMA @ Montevarchi (AR) - Via Vespucci\, 14\n\n\nSia
 mo super emozionati di invitarti alla nostra prossima GAME NIGHT presso l'
 Associazione di promozione sociale Conkarma a Montevarchi! Un grandissimo 
 grazie a loro per l'incredibile ospitalità e per accoglierci nuovamente i
 n questa fantastica location!\n\n\nPreparatevi per un'altra serata epica d
 i giochi\, divertimento e sorprese alla GAME NIGHT di ValDungeon. Dopo il
  successo straordinario degli eventi precedenti\, siamo pronti a superarci
  ancora una volta!\n\n\nPortate i vostri amici\, la vostra passione per i 
 giochi e la voglia di divertirvi! Con ValDungeon\, ogni serata è un'avven
 tura unica e indimenticabile!\n
ATTACH;FMTTYPE=image/jpeg:https://i0.wp.com/valdungeon.org/wp-content/uplo
 ads/2024/03/gn7.jpeg?fit=1080%2C1350&ssl=1
CATEGORIES:Ingresso Libero
LOCATION:Conkarma A.P.S.\, Via A. Vespucci 14\, Montevarchi\, Arezzo\, 5202
 5\, Toscana\, Italia
X-APPLE-STRUCTURED-LOCATION;VALUE=URI;X-ADDRESS=Via A. Vespucci 14\, Montev
 archi\, Arezzo\, 52025\, Toscana\, Italia;X-APPLE-RADIUS=100;X-TITLE=Conka
 rma A.P.S.:geo:0,0
END:VEVENT
END:VCALENDAR