BEGIN:VCALENDAR
VERSION:2.0
PRODID:-//wp-events-plugin.com//7.2.3.1//EN
BEGIN:VEVENT
UID:25@valdungeon.org
DTSTART:20240112T201500Z
DTEND:20240112T224500Z
DTSTAMP:20240303T134156Z
URL:https://valdungeon.org/eventi/game-night9/
SUMMARY:Game Night
DESCRIPTION:\n\nVenerdì 12 Gennaio 2024 21:15\nGAME NIGHT #9\nAssociazione
  di promozione sociale Conkarma @ Montevarchi (AR) - Via Vespucci\, 14\n\n
 \nIniziamo il 2024 con il piede giusto! Siamo elettrizzati di annunciare c
 he la nostra prossima GAME NIGHT si svolgerà ancora una volta presso la s
 ede dell'Associazione di Promozione Sociale Conkarma a Montevarchi. Un sen
 tito ringraziamento a loro per averci nuovamente concesso questa fantastic
 a location!\n\n\nForti dell'incredibile successo degli eventi precedenti\,
  siamo impazienti di offrirvi una GAME NIGHT di ValDungeon ancor più ric
 ca di divertimento e sorprese per il suo nono appuntamento!\n\n\nInvitate 
 i vostri amici e preparatevi per un'altra serata memorabile all'insegna de
 i giochi e del puro divertimento.\n
ATTACH;FMTTYPE=image/jpeg:https://i0.wp.com/valdungeon.org/wp-content/uplo
 ads/2024/03/gni9.jpeg?fit=1080%2C1350&ssl=1
CATEGORIES:Ingresso Libero
LOCATION:Conkarma A.P.S.\, Via A. Vespucci 14\, Montevarchi\, Arezzo\, 5202
 5\, Toscana\, Italia
X-APPLE-STRUCTURED-LOCATION;VALUE=URI;X-ADDRESS=Via A. Vespucci 14\, Montev
 archi\, Arezzo\, 52025\, Toscana\, Italia;X-APPLE-RADIUS=100;X-TITLE=Conka
 rma A.P.S.:geo:0,0
END:VEVENT
END:VCALENDAR