BEGIN:VCALENDAR
VERSION:2.0
PRODID:-//wp-events-plugin.com//7.2.3.1//EN
BEGIN:VEVENT
UID:26@valdungeon.org
DTSTART:20240121T140000Z
DTEND:20240121T180000Z
DTSTAMP:20240303T134652Z
URL:https://valdungeon.org/eventi/gaminpalomar2101/
SUMMARY:GamIN' Palomar
DESCRIPTION:\n\nDomenica 21 Gennaio 2024 dalle ore 15:00 alle ore 19:00\nGa
 mIN' Palomar\nPalomar Casa della Cultura\, Piazza della Libertà\, 15\, Sa
 n Giovanni Valdarno.\n\n\nSiete pronti per un altro appuntamento con GamIN
 ' Palomar? Dopo il grande successo degli eventi precedenti\, siamo felici 
 di annunciare il ritorno di questa fantastica manifestazione! L'evento del
  Comune di San Giovanni Valdarno dedicato a tutti gli appassionati di gioc
 hi da tavolo\, giochi di ruolo e scacchi. Appuntamento il 21 gennaio 2024\
 , a partire dalle 15:00\, presso Palomar - Casa della Cultura\, in Piazza 
 della Libertà.\n\n\nUnitevi a noi per un pomeriggio all'insegna del diver
 timento e della condivisione. Un'ampia selezione di giochi vi aspetta\, pe
 r sfide appassionanti e momenti indimenticabili. Incontra altri appassiona
 ti\, condividi la tua passione per i giochi analogici e crea nuove amicizi
 e.\n\n\nLa partecipazione è gratuita.\n\n\nNon vediamo l'ora di ritrovarc
 i tutti insieme a GamIN' Palomar.\n\n\nA cura delle Associazioni From Beyo
 nd Larp \, LiberiLibri&amp\;LiberiScacchi \, Kraken GDR \, ValDungeon.\nUn
  ringraziamento speciale all'Amministrazione Comunale e alla Direzione di 
 Palomar\, Casa della Cultura per il loro continuo supporto.\n
ATTACH;FMTTYPE=image/jpeg:https://i0.wp.com/valdungeon.org/wp-content/uplo
 ads/2024/03/gip2101.jpeg?fit=1080%2C1350&ssl=1
CATEGORIES:Ingresso Libero
LOCATION:Palomar Casa della cultura\, Piazza della Libertà\, 15\, San Giov
 anni Valdarno\, AR\, 52027\, Italia
X-APPLE-STRUCTURED-LOCATION;VALUE=URI;X-ADDRESS=Piazza della Libertà\, 15\
 , San Giovanni Valdarno\, AR\, 52027\, Italia;X-APPLE-RADIUS=100;X-TITLE=P
 alomar Casa della cultura:geo:0,0
END:VEVENT
END:VCALENDAR